BEGIN:VCALENDAR
PRODID:www.porvair.com
VERSION:2.0
CALSCALE:GREGORIAN
BEGIN:VEVENT
UID:ced3101d3b562470cba07d086ca6d9b7
DTSTAMP:20260424T182644Z
SUMMARY:Full year 2026 results announcement
DESCRIPTION:Full year 2026 results announcement
DTSTART:20270208T090000Z
DTEND:20270208T100000Z
LOCATION:
END:VEVENT
END:VCALENDAR
