BEGIN:VCALENDAR
PRODID:www.porvair.com
VERSION:2.0
CALSCALE:GREGORIAN
BEGIN:VEVENT
UID:87a0fea2cc0d78060dffaf186b3e3191
DTSTAMP:20260424T182746Z
SUMMARY:Financial year end 2026
DESCRIPTION:Financial year end 2026
DTSTART:20261130T090000Z
DTEND:20261130T100000Z
LOCATION:
END:VEVENT
END:VCALENDAR
