BEGIN:VCALENDAR
PRODID:www.porvair.com
VERSION:2.0
CALSCALE:GREGORIAN
BEGIN:VEVENT
UID:775c17ae45c5f3c611a7a2f905454064
DTSTAMP:20260424T182746Z
SUMMARY:Payment date for dividend
DESCRIPTION:Payment date for dividend
DTSTART:20260821T090000Z
DTEND:20260821T100000Z
LOCATION:
END:VEVENT
END:VCALENDAR
