BEGIN:VCALENDAR
PRODID:www.porvair.com
VERSION:2.0
CALSCALE:GREGORIAN
BEGIN:VEVENT
UID:d4602cc90893037c314e6b4a744a5e53
DTSTAMP:20260424T182644Z
SUMMARY:Record date for dividend
DESCRIPTION:Record date for dividend
DTSTART:20260717T090000Z
DTEND:20260717T100000Z
LOCATION:
END:VEVENT
END:VCALENDAR
