BEGIN:VCALENDAR
PRODID:www.porvair.com
VERSION:2.0
CALSCALE:GREGORIAN
BEGIN:VEVENT
UID:c960f1e7df449f0786afd21f29ce2197
DTSTAMP:20260424T170103Z
SUMMARY:Ex-dividend date
DESCRIPTION:Ex-dividend date
DTSTART:20260716T090000Z
DTEND:20260716T100000Z
LOCATION:
END:VEVENT
END:VCALENDAR
