BEGIN:VCALENDAR
PRODID:www.porvair.com
VERSION:2.0
CALSCALE:GREGORIAN
BEGIN:VEVENT
UID:3d8178229559ec213f09c6d2eb42f2a0
DTSTAMP:20260424T170149Z
SUMMARY:Half year 2026 results announcement
DESCRIPTION:Half year 2026 results announcement
DTSTART:20260629T090000Z
DTEND:20260629T100000Z
LOCATION:
END:VEVENT
END:VCALENDAR
