BEGIN:VCALENDAR
PRODID:www.porvair.com
VERSION:2.0
CALSCALE:GREGORIAN
BEGIN:VEVENT
UID:97e3529ec7721078a8682fb6ac4914fd
DTSTAMP:20260424T170042Z
SUMMARY:Payment date for dividend
DESCRIPTION:Payment date for dividend
DTSTART:20260608T090000Z
DTEND:20260608T100000Z
LOCATION:
END:VEVENT
END:VCALENDAR
