BEGIN:VCALENDAR
PRODID:www.porvair.com
VERSION:2.0
CALSCALE:GREGORIAN
BEGIN:VEVENT
UID:2b68d9e9edb433322b6a9beff781391e
DTSTAMP:20260424T170154Z
SUMMARY:Half year 2026 period end
DESCRIPTION:Half year 2026 period end
DTSTART:20260531T090000Z
DTEND:20260531T100000Z
LOCATION:
END:VEVENT
END:VCALENDAR
