BEGIN:VCALENDAR
PRODID:www.porvair.com
VERSION:2.0
CALSCALE:GREGORIAN
BEGIN:VEVENT
UID:0402b7476bec58241d73e764cf38b321
DTSTAMP:20260424T170102Z
SUMMARY:Record date for dividend
DESCRIPTION:Record date for dividend
DTSTART:20260501T090000Z
DTEND:20260501T100000Z
LOCATION:
END:VEVENT
END:VCALENDAR
