BEGIN:VCALENDAR
PRODID:www.porvair.com
VERSION:2.0
CALSCALE:GREGORIAN
BEGIN:VEVENT
UID:e460419a7cb2837bf60916ab35814a92
DTSTAMP:20260424T170154Z
SUMMARY:Ex-dividend date
DESCRIPTION:Ex-dividend date
DTSTART:20260430T090000Z
DTEND:20260430T100000Z
LOCATION:
END:VEVENT
END:VCALENDAR
